BEGIN:VCALENDAR
VERSION:2.0
PRODID:-//FF Meckenhausen - ECPv6.15.16//NONSGML v1.0//EN
CALSCALE:GREGORIAN
METHOD:PUBLISH
X-WR-CALNAME:FF Meckenhausen
X-ORIGINAL-URL:https://ff.meckenhausen.com
X-WR-CALDESC:Veranstaltungen für FF Meckenhausen
REFRESH-INTERVAL;VALUE=DURATION:PT1H
X-Robots-Tag:noindex
X-PUBLISHED-TTL:PT1H
BEGIN:VTIMEZONE
TZID:Europe/Berlin
BEGIN:DAYLIGHT
TZOFFSETFROM:+0100
TZOFFSETTO:+0200
TZNAME:CEST
DTSTART:20250330T010000
END:DAYLIGHT
BEGIN:STANDARD
TZOFFSETFROM:+0200
TZOFFSETTO:+0100
TZNAME:CET
DTSTART:20251026T010000
END:STANDARD
BEGIN:DAYLIGHT
TZOFFSETFROM:+0100
TZOFFSETTO:+0200
TZNAME:CEST
DTSTART:20260329T010000
END:DAYLIGHT
BEGIN:STANDARD
TZOFFSETFROM:+0200
TZOFFSETTO:+0100
TZNAME:CET
DTSTART:20261025T010000
END:STANDARD
BEGIN:DAYLIGHT
TZOFFSETFROM:+0100
TZOFFSETTO:+0200
TZNAME:CEST
DTSTART:20270328T010000
END:DAYLIGHT
BEGIN:STANDARD
TZOFFSETFROM:+0200
TZOFFSETTO:+0100
TZNAME:CET
DTSTART:20271031T010000
END:STANDARD
END:VTIMEZONE
BEGIN:VEVENT
DTSTART;TZID=Europe/Berlin:20260422T190000
DTEND;TZID=Europe/Berlin:20260422T190000
DTSTAMP:20260422T040521
CREATED:20260416T070440Z
LAST-MODIFIED:20260416T070440Z
UID:2668-1776884400-1776884400@ff.meckenhausen.com
SUMMARY:Übung
DESCRIPTION:Jahresübung Atemschutz
URL:https://ff.meckenhausen.com/index.php/event/uebung-27/
CATEGORIES:Übung
END:VEVENT
BEGIN:VEVENT
DTSTART;TZID=Europe/Berlin:20260423T190000
DTEND;TZID=Europe/Berlin:20260423T190000
DTSTAMP:20260422T040521
CREATED:20260416T070538Z
LAST-MODIFIED:20260416T070538Z
UID:2670-1776970800-1776970800@ff.meckenhausen.com
SUMMARY:Übung
DESCRIPTION:Jahresübung Atemschutz
URL:https://ff.meckenhausen.com/index.php/event/uebung-28/
CATEGORIES:Übung
END:VEVENT
BEGIN:VEVENT
DTSTART;TZID=Europe/Berlin:20260430T180000
DTEND;TZID=Europe/Berlin:20260430T180000
DTSTAMP:20260422T040521
CREATED:20260416T065612Z
LAST-MODIFIED:20260421T060201Z
UID:2662-1777572000-1777572000@ff.meckenhausen.com
SUMMARY:Maibaumaufstellen
DESCRIPTION:Maibaum MCK 2026
URL:https://ff.meckenhausen.com/index.php/event/maibaumaufstellen-5/
LOCATION:Feuerwehr Gerätehaus
CATEGORIES:Verein
END:VEVENT
BEGIN:VEVENT
DTSTART;TZID=Europe/Berlin:20260511T190000
DTEND;TZID=Europe/Berlin:20260511T190000
DTSTAMP:20260422T040521
CREATED:20260420T062527Z
LAST-MODIFIED:20260420T062527Z
UID:2680-1778526000-1778526000@ff.meckenhausen.com
SUMMARY:Übung
DESCRIPTION:Löschaufbau\n– Einsatz TS 8 + Pumpe LF 10\n– Löschtaktik\n– Einsatz Zumischer
URL:https://ff.meckenhausen.com/index.php/event/uebung-29/
CATEGORIES:Übung
END:VEVENT
BEGIN:VEVENT
DTSTART;TZID=Europe/Berlin:20260518T190000
DTEND;TZID=Europe/Berlin:20260518T190000
DTSTAMP:20260422T040521
CREATED:20260420T062712Z
LAST-MODIFIED:20260420T062712Z
UID:2683-1779130800-1779130800@ff.meckenhausen.com
SUMMARY:Übung
DESCRIPTION:Löschaufbau\n– Einsatz TS 8 + Pumpe LF 10\n– Löschtaktik\n– Einsatz Zumischer
URL:https://ff.meckenhausen.com/index.php/event/uebung-30/
CATEGORIES:Übung
END:VEVENT
BEGIN:VEVENT
DTSTART;TZID=Europe/Berlin:20260608T190000
DTEND;TZID=Europe/Berlin:20260608T190000
DTSTAMP:20260422T040521
CREATED:20260420T062907Z
LAST-MODIFIED:20260420T062907Z
UID:2685-1780945200-1780945200@ff.meckenhausen.com
SUMMARY:Übung
DESCRIPTION:Maschinisten- und Fahrerübung\n– Bedienung Pumpe\n– Fehlersuche
URL:https://ff.meckenhausen.com/index.php/event/uebung-31/
CATEGORIES:Übung
END:VEVENT
BEGIN:VEVENT
DTSTART;TZID=Europe/Berlin:20260619T180000
DTEND;TZID=Europe/Berlin:20260619T180000
DTSTAMP:20260422T040521
CREATED:20260420T063057Z
LAST-MODIFIED:20260420T063057Z
UID:2687-1781892000-1781892000@ff.meckenhausen.com
SUMMARY:Übung
DESCRIPTION:Gemeinsame THL-Übung mit Hilpoltstein\n– am Fahrzeug
URL:https://ff.meckenhausen.com/index.php/event/uebung-32/
CATEGORIES:Übung
END:VEVENT
BEGIN:VEVENT
DTSTART;TZID=Europe/Berlin:20260621T093000
DTEND;TZID=Europe/Berlin:20260621T093000
DTSTAMP:20260422T040521
CREATED:20260420T065640Z
LAST-MODIFIED:20260420T065640Z
UID:2705-1782034200-1782034200@ff.meckenhausen.com
SUMMARY:Frühschoppen
DESCRIPTION:
URL:https://ff.meckenhausen.com/index.php/event/fruehschoppen-4/
LOCATION:Feuerwehr Gerätehaus
CATEGORIES:Verein
END:VEVENT
BEGIN:VEVENT
DTSTART;TZID=Europe/Berlin:20260713T190000
DTEND;TZID=Europe/Berlin:20260713T190000
DTSTAMP:20260422T040521
CREATED:20260420T063304Z
LAST-MODIFIED:20260420T063304Z
UID:2689-1783969200-1783969200@ff.meckenhausen.com
SUMMARY:Übung
DESCRIPTION:Selbstrettung / Rückhalten\n– Leitern\n– Knöten und Stiche\n– Eigensicherung (Feuerwehrgurt)
URL:https://ff.meckenhausen.com/index.php/event/uebung-33/
CATEGORIES:Übung
END:VEVENT
BEGIN:VEVENT
DTSTART;TZID=Europe/Berlin:20260720T190000
DTEND;TZID=Europe/Berlin:20260720T190000
DTSTAMP:20260422T040521
CREATED:20260420T063431Z
LAST-MODIFIED:20260420T063431Z
UID:2691-1784574000-1784574000@ff.meckenhausen.com
SUMMARY:Übung
DESCRIPTION:Selbstrettung / Rückhalten\n– Leitern\n– Knöten und Stiche\n– Eigensicherung (Feuerwehrgurt)
URL:https://ff.meckenhausen.com/index.php/event/uebung-34/
CATEGORIES:Übung
END:VEVENT
BEGIN:VEVENT
DTSTART;TZID=Europe/Berlin:20260807T150000
DTEND;TZID=Europe/Berlin:20260809T140000
DTSTAMP:20260422T040521
CREATED:20260420T070716Z
LAST-MODIFIED:20260420T070716Z
UID:2709-1786114800-1786284000@ff.meckenhausen.com
SUMMARY:Vater-Kind-Zeltlager
DESCRIPTION:
URL:https://ff.meckenhausen.com/index.php/event/vater-kind-zeltlager-3/
CATEGORIES:Verein
END:VEVENT
BEGIN:VEVENT
DTSTART;VALUE=DATE:20261010
DTEND;VALUE=DATE:20261011
DTSTAMP:20260422T040521
CREATED:20260420T070953Z
LAST-MODIFIED:20260420T070953Z
UID:2711-1791590400-1791676799@ff.meckenhausen.com
SUMMARY:Vereinsausflug
DESCRIPTION:
URL:https://ff.meckenhausen.com/index.php/event/vereinsausflug-2/
CATEGORIES:Verein
END:VEVENT
BEGIN:VEVENT
DTSTART;TZID=Europe/Berlin:20261012T190000
DTEND;TZID=Europe/Berlin:20261012T190000
DTSTAMP:20260422T040521
CREATED:20260420T064703Z
LAST-MODIFIED:20260420T064703Z
UID:2693-1791831600-1791831600@ff.meckenhausen.com
SUMMARY:Übung
DESCRIPTION:Hochwasser\n– Keller unter Wasser\n– Wasser ableiten\n– Sandsackfüllung\n– Ölwehr im Keller
URL:https://ff.meckenhausen.com/index.php/event/uebung-35/
CATEGORIES:Übung
END:VEVENT
BEGIN:VEVENT
DTSTART;TZID=Europe/Berlin:20261019T190000
DTEND;TZID=Europe/Berlin:20261019T190000
DTSTAMP:20260422T040521
CREATED:20260420T064838Z
LAST-MODIFIED:20260420T064838Z
UID:2695-1792436400-1792436400@ff.meckenhausen.com
SUMMARY:Übung
DESCRIPTION:Hochwasser\n– Keller unter Wasser\n– Wasser ableiten\n– Sandsackfüllung\n– Ölwehr im Keller
URL:https://ff.meckenhausen.com/index.php/event/uebung-36/
CATEGORIES:Übung
END:VEVENT
BEGIN:VEVENT
DTSTART;TZID=Europe/Berlin:20261116T190000
DTEND;TZID=Europe/Berlin:20261116T190000
DTSTAMP:20260422T040521
CREATED:20260420T065032Z
LAST-MODIFIED:20260420T065032Z
UID:2697-1794855600-1794855600@ff.meckenhausen.com
SUMMARY:Übung
DESCRIPTION:Feuerwehr im Winter\n– Ausleuchten der Einsatzstelle\n– Eisrettung\n– Gefahren
URL:https://ff.meckenhausen.com/index.php/event/uebung-37/
CATEGORIES:Übung
END:VEVENT
BEGIN:VEVENT
DTSTART;TZID=Europe/Berlin:20261123T190000
DTEND;TZID=Europe/Berlin:20261123T190000
DTSTAMP:20260422T040522
CREATED:20260420T065211Z
LAST-MODIFIED:20260420T065211Z
UID:2699-1795460400-1795460400@ff.meckenhausen.com
SUMMARY:Übung
DESCRIPTION:Feuerwehr im Winter\n– Ausleuchten der Einsatzstelle\n– Eisrettung\n– Gefahren
URL:https://ff.meckenhausen.com/index.php/event/uebung-38/
CATEGORIES:Übung
END:VEVENT
BEGIN:VEVENT
DTSTART;TZID=Europe/Berlin:20261207T190000
DTEND;TZID=Europe/Berlin:20261207T190000
DTSTAMP:20260422T040522
CREATED:20260420T065317Z
LAST-MODIFIED:20260420T065317Z
UID:2701-1796670000-1796670000@ff.meckenhausen.com
SUMMARY:Übung
DESCRIPTION:Gruppenführerübung
URL:https://ff.meckenhausen.com/index.php/event/uebung-39/
CATEGORIES:Übung
END:VEVENT
BEGIN:VEVENT
DTSTART;TZID=Europe/Berlin:20261214T190000
DTEND;TZID=Europe/Berlin:20261214T190000
DTSTAMP:20260422T040522
CREATED:20260420T065412Z
LAST-MODIFIED:20260420T065412Z
UID:2703-1797274800-1797274800@ff.meckenhausen.com
SUMMARY:Übung
DESCRIPTION:Winterschulung
URL:https://ff.meckenhausen.com/index.php/event/uebung-40/
CATEGORIES:Übung
END:VEVENT
END:VCALENDAR